BEGIN:VCALENDAR
VERSION:2.0
PRODID:-//Sacramento Tall Club - ECPv6.15.20//NONSGML v1.0//EN
CALSCALE:GREGORIAN
METHOD:PUBLISH
X-ORIGINAL-URL:https://www.sacramentotallclub.org
X-WR-CALDESC:Events for Sacramento Tall Club
REFRESH-INTERVAL;VALUE=DURATION:PT1H
X-Robots-Tag:noindex
X-PUBLISHED-TTL:PT1H
BEGIN:VTIMEZONE
TZID:America/Los_Angeles
BEGIN:DAYLIGHT
TZOFFSETFROM:-0800
TZOFFSETTO:-0700
TZNAME:PDT
DTSTART:20250309T100000
END:DAYLIGHT
BEGIN:STANDARD
TZOFFSETFROM:-0700
TZOFFSETTO:-0800
TZNAME:PST
DTSTART:20251102T090000
END:STANDARD
BEGIN:DAYLIGHT
TZOFFSETFROM:-0800
TZOFFSETTO:-0700
TZNAME:PDT
DTSTART:20260308T100000
END:DAYLIGHT
BEGIN:STANDARD
TZOFFSETFROM:-0700
TZOFFSETTO:-0800
TZNAME:PST
DTSTART:20261101T090000
END:STANDARD
BEGIN:DAYLIGHT
TZOFFSETFROM:-0800
TZOFFSETTO:-0700
TZNAME:PDT
DTSTART:20270314T100000
END:DAYLIGHT
BEGIN:STANDARD
TZOFFSETFROM:-0700
TZOFFSETTO:-0800
TZNAME:PST
DTSTART:20271107T090000
END:STANDARD
END:VTIMEZONE
BEGIN:VEVENT
DTSTART;TZID=America/Los_Angeles:20260516T120000
DTEND;TZID=America/Los_Angeles:20260516T170000
DTSTAMP:20260422T045830
CREATED:20260403T164918Z
LAST-MODIFIED:20260415T001751Z
UID:25292-1778932800-1778950800@www.sacramentotallclub.org
SUMMARY:STC Member Appreciation Picnic
DESCRIPTION:STC would like to welcome you to our Member Appreciation Picnic & Anniversary Barbeque …! We will be celebrating 44 years of fun and friendship with our annual picnic & BBQ at Hagin Community Park ~ 2197 Chase Drive\, Rancho Cordova CA. Please RSVP on Meet-up or contact Kris and Susanne ( social@sacramentotallclub.org ) no later than May 10\, 2026. Full event details can be found here.
URL:https://www.sacramentotallclub.org/calendar/stc-member-appreciation-picnic/
LOCATION:Hagin Community Park\, 2197 Chase Drive\, Rancho Cordova\, CA\, United States
END:VEVENT
END:VCALENDAR